BEGIN:VCALENDAR
VERSION:2.0
PRODID:-//Sarpy County Democrats - ECPv6.6.2//NONSGML v1.0//EN
CALSCALE:GREGORIAN
METHOD:PUBLISH
X-WR-CALNAME:Sarpy County Democrats
X-ORIGINAL-URL:https://sarpydemocrats.org
X-WR-CALDESC:Events for Sarpy County Democrats
REFRESH-INTERVAL;VALUE=DURATION:PT1H
X-Robots-Tag:noindex
X-PUBLISHED-TTL:PT1H
BEGIN:VTIMEZONE
TZID:America/Chicago
BEGIN:DAYLIGHT
TZOFFSETFROM:-0600
TZOFFSETTO:-0500
TZNAME:CDT
DTSTART:20240310T080000
END:DAYLIGHT
BEGIN:STANDARD
TZOFFSETFROM:-0500
TZOFFSETTO:-0600
TZNAME:CST
DTSTART:20241103T070000
END:STANDARD
END:VTIMEZONE
BEGIN:VEVENT
DTSTART;VALUE=DATE:20240731
DTEND;VALUE=DATE:20240805
DTSTAMP:20260421T015326
CREATED:20240701T005049Z
LAST-MODIFIED:20240701T005049Z
UID:275417-1722384000-1722815999@sarpydemocrats.org
SUMMARY:Sarpy County Fair
DESCRIPTION:The Sarpy County Democrats will be manning our booth daily to promote Democratic candidates. Contact us to volunteer or stop by and say hello!
URL:https://sarpydemocrats.org/event/sarpy-county-fair-2/
LOCATION:Springfield-Fairgrounds\, 100 Main St\, Springfield\, NE\, United States
ATTACH;FMTTYPE=image/png:https://sarpydemocrats.org/wp-content/uploads/2024/06/SarpyFair.png
ORGANIZER;CN="Sarpy County Democrats":MAILTO:info@sarpydemocrats.org
GEO:41.0818317;-96.1346106
X-APPLE-STRUCTURED-LOCATION;VALUE=URI;X-ADDRESS=Springfield-Fairgrounds 100 Main St Springfield NE United States;X-APPLE-RADIUS=500;X-TITLE=100 Main St:geo:-96.1346106,41.0818317
END:VEVENT
END:VCALENDAR